BEGIN:VCALENDAR
VERSION:2.0
PRODID:-//Marshalltown Community College &amp; Iowa Valley Grinnell - ECPv6.15.20//NONSGML v1.0//EN
CALSCALE:GREGORIAN
METHOD:PUBLISH
X-WR-CALNAME:Marshalltown Community College &amp; Iowa Valley Grinnell
X-ORIGINAL-URL:https://mcc.iavalley.edu
X-WR-CALDESC:Events for Marshalltown Community College &amp; Iowa Valley Grinnell
REFRESH-INTERVAL;VALUE=DURATION:PT1H
X-Robots-Tag:noindex
X-PUBLISHED-TTL:PT1H
BEGIN:VTIMEZONE
TZID:UTC
BEGIN:STANDARD
TZOFFSETFROM:+0000
TZOFFSETTO:+0000
TZNAME:UTC
DTSTART:20250101T000000
END:STANDARD
END:VTIMEZONE
BEGIN:VEVENT
DTSTART;TZID=UTC:20260503T120000
DTEND;TZID=UTC:20260503T150000
DTSTAMP:20260424T071113
CREATED:20260420T123203Z
LAST-MODIFIED:20260420T123203Z
UID:10030372-1777809600-1777820400@mcc.iavalley.edu
SUMMARY:Southwestern CC\, Marshalltown Community College
DESCRIPTION:Softball on May 3\, 2026 at 12:00 PM: Southwestern CC\, Marshalltown Community College
URL:https://mcc.iavalley.edu/event/southwestern-cc-marshalltown-community-college/
CATEGORIES:softball
END:VEVENT
BEGIN:VEVENT
DTSTART;TZID=UTC:20260503T140000
DTEND;TZID=UTC:20260503T170000
DTSTAMP:20260424T071113
CREATED:20260420T123203Z
LAST-MODIFIED:20260420T123204Z
UID:10030373-1777816800-1777827600@mcc.iavalley.edu
SUMMARY:Southwestern CC\, Marshalltown Community College
DESCRIPTION:Softball on May 3\, 2026 at 2:00 PM: Southwestern CC\, Marshalltown Community College
URL:https://mcc.iavalley.edu/event/southwestern-cc-marshalltown-community-college-2/
CATEGORIES:softball
END:VEVENT
BEGIN:VEVENT
DTSTART;TZID=UTC:20260506T000000
DTEND;TZID=UTC:20260506T030000
DTSTAMP:20260424T071113
CREATED:20260420T123204Z
LAST-MODIFIED:20260420T123204Z
UID:10030374-1778025600-1778036400@mcc.iavalley.edu
SUMMARY:NJCAA Region XI Tournament\, Marshalltown Community College
DESCRIPTION:Softball on May 6\, 2026: NJCAA Region XI Tournament\, Marshalltown Community College\, Region 11 Tournament
URL:https://mcc.iavalley.edu/event/njcaa-region-xi-tournament-marshalltown-community-college/
CATEGORIES:softball
END:VEVENT
END:VCALENDAR