BEGIN:VCALENDAR
VERSION:2.0
PRODID:-//Marshalltown Community College &amp; Iowa Valley Grinnell - ECPv6.15.17.1//NONSGML v1.0//EN
CALSCALE:GREGORIAN
METHOD:PUBLISH
X-ORIGINAL-URL:https://mcc.iavalley.edu
X-WR-CALDESC:Events for Marshalltown Community College &amp; Iowa Valley Grinnell
REFRESH-INTERVAL;VALUE=DURATION:PT1H
X-Robots-Tag:noindex
X-PUBLISHED-TTL:PT1H
BEGIN:VTIMEZONE
TZID:UTC
BEGIN:STANDARD
TZOFFSETFROM:+0000
TZOFFSETTO:+0000
TZNAME:UTC
DTSTART:20250101T000000
END:STANDARD
END:VTIMEZONE
BEGIN:VEVENT
DTSTART;TZID=UTC:20260423T140000
DTEND;TZID=UTC:20260423T170000
DTSTAMP:20260421T071525
CREATED:20260420T123156Z
LAST-MODIFIED:20260420T123157Z
UID:10030352-1776952800-1776963600@mcc.iavalley.edu
SUMMARY:Northeast Iowa Community College\, Marshalltown Community College
DESCRIPTION:Softball on Apr 23\, 2026 at 2:00 PM: Northeast Iowa Community College\, Marshalltown Community College\, Marshalltown\, IA
URL:https://mcc.iavalley.edu/event/northeast-iowa-community-college-marshalltown-community-college/
CATEGORIES:softball
END:VEVENT
BEGIN:VEVENT
DTSTART;TZID=UTC:20260423T160000
DTEND;TZID=UTC:20260423T190000
DTSTAMP:20260421T071525
CREATED:20260420T123157Z
LAST-MODIFIED:20260420T123157Z
UID:10030353-1776960000-1776970800@mcc.iavalley.edu
SUMMARY:Northeast Iowa Community College\, Marshalltown Community College
DESCRIPTION:Softball on Apr 23\, 2026 at 4:00 PM: Northeast Iowa Community College\, Marshalltown Community College\, Marshalltown\, IA
URL:https://mcc.iavalley.edu/event/northeast-iowa-community-college-marshalltown-community-college-2/
CATEGORIES:softball
END:VEVENT
BEGIN:VEVENT
DTSTART;TZID=UTC:20260425T130000
DTEND;TZID=UTC:20260425T160000
DTSTAMP:20260421T071525
CREATED:20260420T123158Z
LAST-MODIFIED:20260420T123158Z
UID:10030356-1777122000-1777132800@mcc.iavalley.edu
SUMMARY:Marshalltown Community College\, Southeastern CC
DESCRIPTION:Softball on Apr 25\, 2026 at 1:00 PM: Marshalltown Community College\, Southeastern CC\, Southeastern Community College
URL:https://mcc.iavalley.edu/event/marshalltown-community-college-southeastern-cc/
CATEGORIES:softball
END:VEVENT
BEGIN:VEVENT
DTSTART;TZID=UTC:20260425T150000
DTEND;TZID=UTC:20260425T180000
DTSTAMP:20260421T071525
CREATED:20260420T123158Z
LAST-MODIFIED:20260420T123159Z
UID:10030358-1777129200-1777140000@mcc.iavalley.edu
SUMMARY:Marshalltown Community College\, Southeastern CC
DESCRIPTION:Softball on Apr 25\, 2026 at 3:00 PM: Marshalltown Community College\, Southeastern CC\, Southeastern Community College
URL:https://mcc.iavalley.edu/event/marshalltown-community-college-southeastern-cc-2/
CATEGORIES:softball
END:VEVENT
BEGIN:VEVENT
DTSTART;TZID=UTC:20260426T120000
DTEND;TZID=UTC:20260426T150000
DTSTAMP:20260421T071525
CREATED:20260420T123159Z
LAST-MODIFIED:20260420T123159Z
UID:10030359-1777204800-1777215600@mcc.iavalley.edu
SUMMARY:Marshalltown Community College\, Indian Hills CC
DESCRIPTION:Softball on Apr 26\, 2026 at 12:00 PM: Marshalltown Community College\, Indian Hills CC\, Ottumwa\, IA
URL:https://mcc.iavalley.edu/event/marshalltown-community-college-indian-hills-cc/
CATEGORIES:softball
END:VEVENT
BEGIN:VEVENT
DTSTART;TZID=UTC:20260426T140000
DTEND;TZID=UTC:20260426T170000
DTSTAMP:20260421T071525
CREATED:20260420T123159Z
LAST-MODIFIED:20260420T123159Z
UID:10030361-1777212000-1777222800@mcc.iavalley.edu
SUMMARY:Marshalltown Community College\, Indian Hills CC
DESCRIPTION:Softball on Apr 26\, 2026 at 2:00 PM: Marshalltown Community College\, Indian Hills CC\, Ottumwa\, IA
URL:https://mcc.iavalley.edu/event/marshalltown-community-college-indian-hills-cc-2/
CATEGORIES:softball
END:VEVENT
BEGIN:VEVENT
DTSTART;TZID=UTC:20260428T140000
DTEND;TZID=UTC:20260428T170000
DTSTAMP:20260421T071525
CREATED:20260420T123200Z
LAST-MODIFIED:20260420T123200Z
UID:10030362-1777384800-1777395600@mcc.iavalley.edu
SUMMARY:Marshalltown Community College\, North Central Missouri College
DESCRIPTION:Softball on Apr 28\, 2026 at 2:00 PM: Marshalltown Community College\, North Central Missouri College\, Postponed
URL:https://mcc.iavalley.edu/event/marshalltown-community-college-north-central-missouri-college/
CATEGORIES:softball
END:VEVENT
BEGIN:VEVENT
DTSTART;TZID=UTC:20260428T160000
DTEND;TZID=UTC:20260428T190000
DTSTAMP:20260421T071525
CREATED:20260420T123200Z
LAST-MODIFIED:20260420T123200Z
UID:10030363-1777392000-1777402800@mcc.iavalley.edu
SUMMARY:Marshalltown Community College\, North Central Missouri College
DESCRIPTION:Softball on Apr 28\, 2026 at 4:00 PM: Marshalltown Community College\, North Central Missouri College\, Postponed
URL:https://mcc.iavalley.edu/event/marshalltown-community-college-north-central-missouri-college-2/
CATEGORIES:softball
END:VEVENT
BEGIN:VEVENT
DTSTART;TZID=UTC:20260430T140000
DTEND;TZID=UTC:20260430T170000
DTSTAMP:20260421T071525
CREATED:20260420T123201Z
LAST-MODIFIED:20260420T123201Z
UID:10030365-1777557600-1777568400@mcc.iavalley.edu
SUMMARY:Marshalltown Community College\, Northeast Iowa Community College
DESCRIPTION:Softball on Apr 30\, 2026 at 2:00 PM: Marshalltown Community College\, Northeast Iowa Community College\, Farley\,IA
URL:https://mcc.iavalley.edu/event/marshalltown-community-college-northeast-iowa-community-college/
CATEGORIES:softball
END:VEVENT
BEGIN:VEVENT
DTSTART;TZID=UTC:20260430T160000
DTEND;TZID=UTC:20260430T190000
DTSTAMP:20260421T071525
CREATED:20260420T123201Z
LAST-MODIFIED:20260420T123201Z
UID:10030366-1777564800-1777575600@mcc.iavalley.edu
SUMMARY:Marshalltown Community College\, Northeast Iowa Community College
DESCRIPTION:Softball on Apr 30\, 2026 at 4:00 PM: Marshalltown Community College\, Northeast Iowa Community College\, Farley\,IA
URL:https://mcc.iavalley.edu/event/marshalltown-community-college-northeast-iowa-community-college-2/
CATEGORIES:softball
END:VEVENT
END:VCALENDAR